BEGIN:VCALENDAR
VERSION:2.0
PRODID:icalendar-ruby
CALSCALE:GREGORIAN
METHOD:PUBLISH
BEGIN:VEVENT
DTSTAMP:20260421T050810Z
UID:http://www.stgproperty.com.au/property?property_id=1761352
DTSTART:20260516T121500
DTEND:20260516T124500
CLASS:PUBLIC
CREATED:20260416T164610
DESCRIPTION: 
LAST-MODIFIED:20260421T103042
LOCATION:9 / 5A  Apsley Street\, PENSHURST NSW 2222\, Australia
SUMMARY:9 / 5A  Apsley Street\,  Auction
URL;VALUE=URI:http://www.stgproperty.com.au/property?property_id=1761352
END:VEVENT
END:VCALENDAR
